Package: ChIPseeker Version: 1.44.0 Command: rm -rf ChIPseeker.buildbin-libdir && mkdir ChIPseeker.buildbin-libdir && /Users/biocbuild/BBS/utils/build-universal.sh ChIPseeker_1.44.0.tar.gz /Library/Frameworks/R.framework/Resources/bin/R ChIPseeker.buildbin-libdir StartedAt: 2025-10-15 17:49:33 -0400 (Wed, 15 Oct 2025) EndedAt: 2025-10-15 17:50:33 -0400 (Wed, 15 Oct 2025) EllapsedTime: 59.9 seconds RetCode: 0 Status: OK PackageFile: ChIPseeker_1.44.0.tgz PackageFileSize: 7.395 MiB