Package: ChIPpeakAnno Version: 3.42.0 Command: /Library/Frameworks/R.framework/Resources/bin/R CMD INSTALL ChIPpeakAnno StartedAt: 2025-10-13 16:31:24 -0400 (Mon, 13 Oct 2025) EndedAt: 2025-10-13 16:34:43 -0400 (Mon, 13 Oct 2025) EllapsedTime: 199.0 seconds RetCode: 0 Status: OK