Package: ChIPpeakAnno Version: 3.42.0 Command: /Library/Frameworks/R.framework/Resources/bin/R CMD check --install=check:ChIPpeakAnno.install-out.txt --library=/Library/Frameworks/R.framework/Resources/library --no-vignettes --timings ChIPpeakAnno_3.42.0.tar.gz StartedAt: 2025-10-14 01:23:44 -0400 (Tue, 14 Oct 2025) EndedAt: 2025-10-14 01:45:40 -0400 (Tue, 14 Oct 2025) EllapsedTime: 1316.1 seconds RetCode: 0 Status: OK CheckDir: ChIPpeakAnno.Rcheck Warnings: 0