Package: ChIPpeakAnno Version: 3.42.0 Command: /Library/Frameworks/R.framework/Resources/bin/R CMD build --keep-empty-dirs --no-resave-data ChIPpeakAnno StartedAt: 2025-10-13 17:51:54 -0400 (Mon, 13 Oct 2025) EndedAt: 2025-10-13 18:29:11 -0400 (Mon, 13 Oct 2025) EllapsedTime: 2236.8 seconds RetCode: 0 Status: OK PackageFile: ChIPpeakAnno_3.42.0.tar.gz PackageFileSize: 21.53 MiB