Package: ChIPpeakAnno Version: 3.42.0 Command: /Library/Frameworks/R.framework/Resources/bin/R CMD build --keep-empty-dirs --no-resave-data ChIPpeakAnno StartedAt: 2025-10-13 21:02:16 -0400 (Mon, 13 Oct 2025) EndedAt: 2025-10-13 21:24:11 -0400 (Mon, 13 Oct 2025) EllapsedTime: 1315.8 seconds RetCode: 0 Status: OK PackageFile: ChIPpeakAnno_3.42.0.tar.gz PackageFileSize: 21.54 MiB