Package: ChIPanalyser Version: 1.30.0 Command: rm -rf ChIPanalyser.buildbin-libdir && mkdir ChIPanalyser.buildbin-libdir && E:\biocbuild\bbs-3.21-bioc\R\bin\R.exe CMD INSTALL --build --library=ChIPanalyser.buildbin-libdir ChIPanalyser_1.30.0.tar.gz StartedAt: 2025-08-15 08:58:22 -0400 (Fri, 15 Aug 2025) EndedAt: 2025-08-15 09:01:23 -0400 (Fri, 15 Aug 2025) EllapsedTime: 180.6 seconds RetCode: 0 Status: OK PackageFile: ChIPanalyser_1.30.0.zip PackageFileSize: 1.998 MiB