Package: ChIPanalyser Version: 1.30.0 Command: /Library/Frameworks/R.framework/Resources/bin/R CMD INSTALL ChIPanalyser StartedAt: 2025-10-13 15:53:59 -0400 (Mon, 13 Oct 2025) EndedAt: 2025-10-13 15:55:18 -0400 (Mon, 13 Oct 2025) EllapsedTime: 79.4 seconds RetCode: 0 Status: OK