Package: ChIPanalyser Version: 1.30.0 Command: /Library/Frameworks/R.framework/Resources/bin/R CMD build --keep-empty-dirs --no-resave-data ChIPanalyser StartedAt: 2025-10-13 21:00:50 -0400 (Mon, 13 Oct 2025) EndedAt: 2025-10-13 21:20:02 -0400 (Mon, 13 Oct 2025) EllapsedTime: 1152.7 seconds RetCode: 0 Status: OK PackageFile: ChIPanalyser_1.30.0.tar.gz PackageFileSize: 1.238 MiB