Package: ChIPComp Version: 1.38.0 Command: /Library/Frameworks/R.framework/Resources/bin/R CMD build --keep-empty-dirs --no-resave-data ChIPComp StartedAt: 2025-09-29 21:09:15 -0400 (Mon, 29 Sep 2025) EndedAt: 2025-09-29 21:10:26 -0400 (Mon, 29 Sep 2025) EllapsedTime: 71.1 seconds RetCode: 0 Status: OK PackageFile: ChIPComp_1.38.0.tar.gz PackageFileSize: 596.5 KiB