Package: ChIPComp Version: 1.38.0 Command: rm -rf ChIPComp.buildbin-libdir && mkdir ChIPComp.buildbin-libdir && /Users/biocbuild/BBS/utils/build-universal.sh ChIPComp_1.38.0.tar.gz /Library/Frameworks/R.framework/Resources/bin/R ChIPComp.buildbin-libdir StartedAt: 2025-10-01 17:47:40 -0400 (Wed, 01 Oct 2025) EndedAt: 2025-10-01 17:48:22 -0400 (Wed, 01 Oct 2025) EllapsedTime: 42.7 seconds RetCode: 0 Status: OK PackageFile: ChIPComp_1.38.0.tgz PackageFileSize: 639.3 KiB