Package: ChAMP Version: 2.38.0 Command: /Library/Frameworks/R.framework/Resources/bin/R CMD check --install=check:ChAMP.install-out.txt --library=/Library/Frameworks/R.framework/Resources/library --no-vignettes --timings ChAMP_2.38.0.tar.gz StartedAt: 2025-04-21 19:40:55 -0400 (Mon, 21 Apr 2025) EndedAt: 2025-04-21 19:50:00 -0400 (Mon, 21 Apr 2025) EllapsedTime: 544.9 seconds RetCode: 0 Status: WARNINGS CheckDir: ChAMP.Rcheck Warnings: 2