Package: CexoR Version: 1.46.0 Command: /Library/Frameworks/R.framework/Resources/bin/R CMD INSTALL CexoR StartedAt: 2025-10-13 16:07:14 -0400 (Mon, 13 Oct 2025) EndedAt: 2025-10-13 16:08:32 -0400 (Mon, 13 Oct 2025) EllapsedTime: 77.8 seconds RetCode: 0 Status: OK