Package: CexoR Version: 1.46.0 Command: /Library/Frameworks/R.framework/Resources/bin/R CMD build --keep-empty-dirs --no-resave-data CexoR StartedAt: 2025-10-13 17:46:27 -0400 (Mon, 13 Oct 2025) EndedAt: 2025-10-13 17:48:42 -0400 (Mon, 13 Oct 2025) EllapsedTime: 135.7 seconds RetCode: 0 Status: OK PackageFile: CexoR_1.46.0.tar.gz PackageFileSize: 1.659 MiB