Package: CexoR Version: 1.46.0 Command: rm -rf CexoR.buildbin-libdir && mkdir CexoR.buildbin-libdir && /Users/biocbuild/BBS/utils/build-universal.sh CexoR_1.46.0.tar.gz /Library/Frameworks/R.framework/Resources/bin/R CexoR.buildbin-libdir StartedAt: 2025-10-14 13:00:16 -0400 (Tue, 14 Oct 2025) EndedAt: 2025-10-14 13:02:06 -0400 (Tue, 14 Oct 2025) EllapsedTime: 109.8 seconds RetCode: 0 Status: OK PackageFile: CexoR_1.46.0.tgz PackageFileSize: 1.694 MiB