Package: Cepo Version: 1.14.0 Command: /home/biocbuild/bbs-3.21-bioc/R/bin/R CMD check --install=check:Cepo.install-out.txt --library=/home/biocbuild/bbs-3.21-bioc/R/site-library --timings Cepo_1.14.0.tar.gz StartedAt: 2025-10-15 21:35:55 -0400 (Wed, 15 Oct 2025) EndedAt: 2025-10-15 21:44:45 -0400 (Wed, 15 Oct 2025) EllapsedTime: 529.8 seconds RetCode: 0 Status: OK CheckDir: Cepo.Rcheck Warnings: 0