Package: Cepo Version: 1.14.0 Command: /Library/Frameworks/R.framework/Resources/bin/R CMD INSTALL Cepo StartedAt: 2025-10-13 16:04:30 -0400 (Mon, 13 Oct 2025) EndedAt: 2025-10-13 16:05:45 -0400 (Mon, 13 Oct 2025) EllapsedTime: 75.1 seconds RetCode: 0 Status: OK