Package: Cepo Version: 1.14.0 Command: /Library/Frameworks/R.framework/Resources/bin/R CMD check --install=check:Cepo.install-out.txt --library=/Library/Frameworks/R.framework/Resources/library --no-vignettes --timings Cepo_1.14.0.tar.gz StartedAt: 2025-10-14 01:16:02 -0400 (Tue, 14 Oct 2025) EndedAt: 2025-10-14 01:24:28 -0400 (Tue, 14 Oct 2025) EllapsedTime: 505.8 seconds RetCode: 0 Status: OK CheckDir: Cepo.Rcheck Warnings: 0