Package: CellTrails Version: 1.26.0 Command: chmod a+r CellTrails -R && E:\biocbuild\bbs-3.21-bioc\R\bin\R.exe CMD build --keep-empty-dirs --no-resave-data CellTrails StartedAt: 2025-08-14 17:55:55 -0400 (Thu, 14 Aug 2025) EndedAt: 2025-08-14 17:57:18 -0400 (Thu, 14 Aug 2025) EllapsedTime: 82.9 seconds RetCode: 0 Status: OK PackageFile: CellTrails_1.26.0.tar.gz PackageFileSize: 2.629 MiB