Package: CellTrails Version: 1.26.0 Command: rm -rf CellTrails.buildbin-libdir && mkdir CellTrails.buildbin-libdir && E:\biocbuild\bbs-3.21-bioc\R\bin\R.exe CMD INSTALL --build --library=CellTrails.buildbin-libdir CellTrails_1.26.0.tar.gz StartedAt: 2025-08-15 08:57:22 -0400 (Fri, 15 Aug 2025) EndedAt: 2025-08-15 08:59:32 -0400 (Fri, 15 Aug 2025) EllapsedTime: 129.2 seconds RetCode: 0 Status: OK PackageFile: CellTrails_1.26.0.zip PackageFileSize: 3.014 MiB