Package: CellTrails Version: 1.26.0 Command: /home/biocbuild/R/R/bin/R CMD check --install=check:CellTrails.install-out.txt --library=/home/biocbuild/R/R/site-library --no-vignettes --timings CellTrails_1.26.0.tar.gz StartedAt: 2025-10-14 07:19:25 -0000 (Tue, 14 Oct 2025) EndedAt: 2025-10-14 07:25:04 -0000 (Tue, 14 Oct 2025) EllapsedTime: 338.3 seconds RetCode: 0 Status: OK CheckDir: CellTrails.Rcheck Warnings: 0