Package: CeTF Version: 1.20.0 Command: /Library/Frameworks/R.framework/Resources/bin/R CMD INSTALL CeTF StartedAt: 2025-10-13 17:51:01 -0400 (Mon, 13 Oct 2025) EndedAt: 2025-10-13 17:52:06 -0400 (Mon, 13 Oct 2025) EllapsedTime: 65.1 seconds RetCode: 0 Status: OK