Package: CeTF Version: 1.20.0 Command: /Library/Frameworks/R.framework/Resources/bin/R CMD build --keep-empty-dirs --no-resave-data CeTF StartedAt: 2025-10-13 20:53:02 -0400 (Mon, 13 Oct 2025) EndedAt: 2025-10-13 20:56:26 -0400 (Mon, 13 Oct 2025) EllapsedTime: 204.5 seconds RetCode: 0 Status: OK PackageFile: CeTF_1.20.0.tar.gz PackageFileSize: 4.155 MiB