Package: CausalR Version: 1.40.0 Command: /Library/Frameworks/R.framework/Resources/bin/R CMD INSTALL CausalR StartedAt: 2025-04-21 15:06:01 -0400 (Mon, 21 Apr 2025) EndedAt: 2025-04-21 15:06:52 -0400 (Mon, 21 Apr 2025) EllapsedTime: 50.3 seconds RetCode: 0 Status: OK