Package: CausalR Version: 1.40.0 Command: /Library/Frameworks/R.framework/Resources/bin/R CMD check --install=check:CausalR.install-out.txt --library=/Library/Frameworks/R.framework/Resources/library --no-vignettes --timings CausalR_1.40.0.tar.gz StartedAt: 2025-10-14 15:16:05 -0400 (Tue, 14 Oct 2025) EndedAt: 2025-10-14 15:16:48 -0400 (Tue, 14 Oct 2025) EllapsedTime: 42.4 seconds RetCode: 0 Status: OK CheckDir: CausalR.Rcheck Warnings: 0