Package: Category Version: 2.74.0 Command: E:\biocbuild\bbs-3.21-bioc\R\bin\R.exe CMD check --no-multiarch --install=check:Category.install-out.txt --library=E:\biocbuild\bbs-3.21-bioc\R\library --no-vignettes --timings Category_2.74.0.tar.gz StartedAt: 2025-08-15 00:17:54 -0400 (Fri, 15 Aug 2025) EndedAt: 2025-08-15 00:24:07 -0400 (Fri, 15 Aug 2025) EllapsedTime: 373.4 seconds RetCode: 0 Status: OK CheckDir: Category.Rcheck Warnings: 0