Package: Category Version: 2.74.0 Command: chmod a+r Category -R && E:\biocbuild\bbs-3.21-bioc\R\bin\R.exe CMD build --keep-empty-dirs --no-resave-data Category StartedAt: 2025-08-14 17:51:00 -0400 (Thu, 14 Aug 2025) EndedAt: 2025-08-14 17:53:56 -0400 (Thu, 14 Aug 2025) EllapsedTime: 175.3 seconds RetCode: 0 Status: OK PackageFile: Category_2.74.0.tar.gz PackageFileSize: 863.4 KiB