Package: CaDrA Version: 1.6.0 Command: /home/biocbuild/bbs-3.21-bioc/R/bin/R CMD INSTALL CaDrA StartedAt: 2025-10-15 15:17:13 -0400 (Wed, 15 Oct 2025) EndedAt: 2025-10-15 15:17:39 -0400 (Wed, 15 Oct 2025) EllapsedTime: 26.3 seconds RetCode: 0 Status: OK