Package: CaDrA Version: 1.6.0 Command: /home/biocbuild/bbs-3.21-bioc/R/bin/R CMD check --install=check:CaDrA.install-out.txt --library=/home/biocbuild/bbs-3.21-bioc/R/site-library --timings CaDrA_1.6.0.tar.gz StartedAt: 2025-10-15 21:23:29 -0400 (Wed, 15 Oct 2025) EndedAt: 2025-10-15 21:32:52 -0400 (Wed, 15 Oct 2025) EllapsedTime: 563.6 seconds RetCode: 1 Status: ERROR CheckDir: CaDrA.Rcheck Warnings: NA