Package: CaDrA Version: 1.6.0 Command: /home/biocbuild/R/R/bin/R CMD INSTALL CaDrA StartedAt: 2025-10-13 20:30:39 -0000 (Mon, 13 Oct 2025) EndedAt: 2025-10-13 20:31:16 -0000 (Mon, 13 Oct 2025) EllapsedTime: 37.7 seconds RetCode: 0 Status: OK