Package: CaDrA Version: 1.6.0 Command: /home/biocbuild/R/R/bin/R CMD check --install=check:CaDrA.install-out.txt --library=/home/biocbuild/R/R/site-library --no-vignettes --timings CaDrA_1.6.0.tar.gz StartedAt: 2025-10-14 07:06:31 -0000 (Tue, 14 Oct 2025) EndedAt: 2025-10-14 07:16:32 -0000 (Tue, 14 Oct 2025) EllapsedTime: 601.4 seconds RetCode: 1 Status: ERROR CheckDir: CaDrA.Rcheck Warnings: NA