Package: CaDrA Version: 1.6.0 Command: /home/biocbuild/R/R/bin/R CMD build --keep-empty-dirs --no-resave-data CaDrA StartedAt: 2025-10-13 23:18:25 -0000 (Mon, 13 Oct 2025) EndedAt: 2025-10-13 23:21:59 -0000 (Mon, 13 Oct 2025) EllapsedTime: 214.1 seconds RetCode: 0 Status: OK PackageFile: CaDrA_1.6.0.tar.gz PackageFileSize: 2.362 MiB