Package: CTDquerier Version: 2.16.0 Command: /home/biocbuild/R/R/bin/R CMD build --keep-empty-dirs --no-resave-data CTDquerier StartedAt: 2025-10-13 23:59:37 -0000 (Mon, 13 Oct 2025) EndedAt: 2025-10-13 23:59:40 -0000 (Mon, 13 Oct 2025) EllapsedTime: 3.0 seconds RetCode: 0 Status: OK PackageFile: CTDquerier_2.16.0.tar.gz PackageFileSize: 2.803 MiB