Package: CSAR Version: 1.60.0 Command: E:\biocbuild\bbs-3.21-bioc\R\bin\R.exe CMD INSTALL CSAR StartedAt: 2025-08-14 16:00:42 -0400 (Thu, 14 Aug 2025) EndedAt: 2025-08-14 16:01:00 -0400 (Thu, 14 Aug 2025) EllapsedTime: 18.0 seconds RetCode: 0 Status: OK