Package: CSAR Version: 1.60.0 Command: chmod a+r CSAR -R && E:\biocbuild\bbs-3.21-bioc\R\bin\R.exe CMD build --keep-empty-dirs --no-resave-data CSAR StartedAt: 2025-08-14 18:19:03 -0400 (Thu, 14 Aug 2025) EndedAt: 2025-08-14 18:19:45 -0400 (Thu, 14 Aug 2025) EllapsedTime: 41.9 seconds RetCode: 0 Status: OK PackageFile: CSAR_1.60.0.tar.gz PackageFileSize: 112.3 KiB