Package: CSAR Version: 1.60.0 Command: rm -rf CSAR.buildbin-libdir && mkdir CSAR.buildbin-libdir && E:\biocbuild\bbs-3.21-bioc\R\bin\R.exe CMD INSTALL --build --library=CSAR.buildbin-libdir CSAR_1.60.0.tar.gz StartedAt: 2025-08-15 09:04:40 -0400 (Fri, 15 Aug 2025) EndedAt: 2025-08-15 09:05:00 -0400 (Fri, 15 Aug 2025) EllapsedTime: 20.4 seconds RetCode: 0 Status: OK PackageFile: CSAR_1.60.0.zip PackageFileSize: 191 KiB