Package: CRISPRseek Version: 1.48.0 Command: /Library/Frameworks/R.framework/Resources/bin/R CMD check --install=check:CRISPRseek.install-out.txt --library=/Library/Frameworks/R.framework/Resources/library --no-vignettes --timings CRISPRseek_1.48.0.tar.gz StartedAt: 2025-10-14 02:06:36 -0400 (Tue, 14 Oct 2025) EndedAt: 2025-10-14 02:46:36 -0400 (Tue, 14 Oct 2025) EllapsedTime: 2400.6 seconds RetCode: None Status: TIMEOUT CheckDir: CRISPRseek.Rcheck Warnings: NA