Package: CRISPRseek Version: 1.48.0 Command: rm -rf CRISPRseek.buildbin-libdir && mkdir CRISPRseek.buildbin-libdir && /Users/biocbuild/BBS/utils/build-universal.sh CRISPRseek_1.48.0.tar.gz /Library/Frameworks/R.framework/Resources/bin/R CRISPRseek.buildbin-libdir StartedAt: 2025-10-14 13:09:10 -0400 (Tue, 14 Oct 2025) EndedAt: 2025-10-14 13:11:01 -0400 (Tue, 14 Oct 2025) EllapsedTime: 110.6 seconds RetCode: 0 Status: OK PackageFile: CRISPRseek_1.48.0.tgz PackageFileSize: 12.12 MiB