Package: CRISPRball Version: 1.4.0 Command: /Library/Frameworks/R.framework/Resources/bin/R CMD build --keep-empty-dirs --no-resave-data CRISPRball StartedAt: 2025-04-21 16:25:27 -0400 (Mon, 21 Apr 2025) EndedAt: 2025-04-21 16:26:08 -0400 (Mon, 21 Apr 2025) EllapsedTime: 41.1 seconds RetCode: 0 Status: OK PackageFile: CRISPRball_1.4.0.tar.gz PackageFileSize: 2.614 MiB