Package: CRISPRball Version: 1.4.0 Command: rm -rf CRISPRball.buildbin-libdir && mkdir CRISPRball.buildbin-libdir && /Users/biocbuild/BBS/utils/build-universal.sh CRISPRball_1.4.0.tar.gz /Library/Frameworks/R.framework/Resources/bin/R CRISPRball.buildbin-libdir StartedAt: 2025-04-22 00:40:15 -0400 (Tue, 22 Apr 2025) EndedAt: 2025-04-22 00:41:06 -0400 (Tue, 22 Apr 2025) EllapsedTime: 51.7 seconds RetCode: 0 Status: OK PackageFile: CRISPRball_1.4.0.tgz PackageFileSize: 2.298 MiB