Package: CPSM Version: 1.0.0 Command: chmod a+r CPSM -R && E:\biocbuild\bbs-3.21-bioc\R\bin\R.exe CMD build --keep-empty-dirs --no-resave-data CPSM StartedAt: 2025-08-14 18:16:39 -0400 (Thu, 14 Aug 2025) EndedAt: 2025-08-14 18:18:18 -0400 (Thu, 14 Aug 2025) EllapsedTime: 99.4 seconds RetCode: 0 Status: OK PackageFile: CPSM_1.0.0.tar.gz PackageFileSize: 3.647 MiB