Package: CPSM Version: 1.0.0 Command: /home/biocbuild/bbs-3.21-bioc/R/bin/R CMD check --install=check:CPSM.install-out.txt --library=/home/biocbuild/bbs-3.21-bioc/R/site-library --timings CPSM_1.0.0.tar.gz StartedAt: 2025-10-15 22:05:48 -0400 (Wed, 15 Oct 2025) EndedAt: 2025-10-15 22:11:01 -0400 (Wed, 15 Oct 2025) EllapsedTime: 313.4 seconds RetCode: 0 Status: OK CheckDir: CPSM.Rcheck Warnings: 0