Package: CPSM Version: 1.0.0 Command: /home/biocbuild/bbs-3.21-bioc/R/bin/R CMD build --keep-empty-dirs --no-resave-data CPSM StartedAt: 2025-10-15 16:56:22 -0400 (Wed, 15 Oct 2025) EndedAt: 2025-10-15 16:57:29 -0400 (Wed, 15 Oct 2025) EllapsedTime: 67.1 seconds RetCode: 0 Status: OK PackageFile: CPSM_1.0.0.tar.gz PackageFileSize: 4.184 MiB