Package: CPSM Version: 1.0.0 Command: /Library/Frameworks/R.framework/Resources/bin/R CMD INSTALL CPSM StartedAt: 2025-10-13 16:00:28 -0400 (Mon, 13 Oct 2025) EndedAt: 2025-10-13 16:01:32 -0400 (Mon, 13 Oct 2025) EllapsedTime: 64.4 seconds RetCode: 0 Status: OK