Package: CPSM Version: 1.0.0 Command: /Library/Frameworks/R.framework/Resources/bin/R CMD build --keep-empty-dirs --no-resave-data CPSM StartedAt: 2025-10-13 18:10:47 -0400 (Mon, 13 Oct 2025) EndedAt: 2025-10-13 18:13:31 -0400 (Mon, 13 Oct 2025) EllapsedTime: 164.5 seconds RetCode: 0 Status: OK PackageFile: CPSM_1.0.0.tar.gz PackageFileSize: 4.157 MiB