Package: CPSM Version: 1.0.0 Command: /home/biocbuild/R/R/bin/R CMD check --install=check:CPSM.install-out.txt --library=/home/biocbuild/R/R/site-library --no-vignettes --timings CPSM_1.0.0.tar.gz StartedAt: 2025-10-14 07:54:11 -0000 (Tue, 14 Oct 2025) EndedAt: 2025-10-14 08:00:31 -0000 (Tue, 14 Oct 2025) EllapsedTime: 380.2 seconds RetCode: 0 Status: OK CheckDir: CPSM.Rcheck Warnings: 0