Package: CPSM Version: 1.0.0 Command: /home/biocbuild/R/R/bin/R CMD build --keep-empty-dirs --no-resave-data CPSM StartedAt: 2025-10-13 23:54:03 -0000 (Mon, 13 Oct 2025) EndedAt: 2025-10-13 23:55:47 -0000 (Mon, 13 Oct 2025) EllapsedTime: 104.0 seconds RetCode: 0 Status: OK PackageFile: CPSM_1.0.0.tar.gz PackageFileSize: 4.086 MiB