Package: CPSM Version: 1.0.0 Command: /Library/Frameworks/R.framework/Resources/bin/R CMD INSTALL CPSM StartedAt: 2025-10-13 16:58:54 -0400 (Mon, 13 Oct 2025) EndedAt: 2025-10-13 16:59:31 -0400 (Mon, 13 Oct 2025) EllapsedTime: 37.1 seconds RetCode: 0 Status: OK