Package: CPSM Version: 1.0.0 Command: /Library/Frameworks/R.framework/Resources/bin/R CMD check --install=check:CPSM.install-out.txt --library=/Library/Frameworks/R.framework/Resources/library --no-vignettes --timings CPSM_1.0.0.tar.gz StartedAt: 2025-10-14 17:29:08 -0400 (Tue, 14 Oct 2025) EndedAt: 2025-10-14 17:35:03 -0400 (Tue, 14 Oct 2025) EllapsedTime: 355.2 seconds RetCode: 0 Status: OK CheckDir: CPSM.Rcheck Warnings: 0