Package: COTAN Version: 2.8.5 Command: /Library/Frameworks/R.framework/Resources/bin/R CMD check --install=check:COTAN.install-out.txt --library=/Library/Frameworks/R.framework/Resources/library --no-vignettes --timings COTAN_2.8.5.tar.gz StartedAt: 2025-10-14 02:01:41 -0400 (Tue, 14 Oct 2025) EndedAt: 2025-10-14 02:36:23 -0400 (Tue, 14 Oct 2025) EllapsedTime: 2082.3 seconds RetCode: 0 Status: OK CheckDir: COTAN.Rcheck Warnings: 0