Package: COTAN Version: 2.8.5 Command: /Library/Frameworks/R.framework/Resources/bin/R CMD build --keep-empty-dirs --no-resave-data COTAN StartedAt: 2025-10-13 18:09:45 -0400 (Mon, 13 Oct 2025) EndedAt: 2025-10-13 18:23:39 -0400 (Mon, 13 Oct 2025) EllapsedTime: 834.7 seconds RetCode: 0 Status: OK PackageFile: COTAN_2.8.5.tar.gz PackageFileSize: 4.191 MiB